BEGIN:VCALENDAR
VERSION:2.0
PRODID:-//Eventin//Event Calendar//EN
CALSCALE:GREGORIAN
METHOD:PUBLISH
BEGIN:VEVENT
UID:0fda57eb0ff737c788661fec26cf9141@almondcareers.com
SUMMARY:Project Management or Business Analysis
DESCRIPTION:Make Payment Via PayPal \n  Make Payment Via FlutterWave
LOCATION:Live Virtual Classes
DTSTAMP:20260423T122938Z
DTSTART:20260425T080000Z
DTEND:20260425T100000Z
END:VEVENT
END:VCALENDAR
