BEGIN:VCALENDAR
VERSION:2.0
PRODID:-//Eventin//Event Calendar//EN
CALSCALE:GREGORIAN
METHOD:PUBLISH
BEGIN:VEVENT
UID:56c74ea074142a908cfca406ec71b245@almondcareers.com
SUMMARY:Data Analytics
DESCRIPTION:
LOCATION:Live Virtual Classes
DTSTAMP:20260423T123248Z
DTSTART:20260509T080000Z
DTEND:20260509T090000Z
END:VEVENT
END:VCALENDAR
