BEGIN:VCALENDAR
VERSION:2.0
PRODID:-//Eventin//Event Calendar//EN
CALSCALE:GREGORIAN
METHOD:PUBLISH
BEGIN:VEVENT
UID:21df7e5815e697c4ca46d02ef8f43e27@almondcareers.com
SUMMARY:Project Management or Business Analysis
DESCRIPTION:Make Payment Via PayPal \n  Make Payment Via FlutterWave
LOCATION:Live Virtual Classes
DTSTAMP:20260423T123351Z
DTSTART:20260509T123000Z
DTEND:20260509T133000Z
END:VEVENT
END:VCALENDAR
