BEGIN:VCALENDAR
VERSION:2.0
PRODID:-//Eventin//Event Calendar//EN
CALSCALE:GREGORIAN
METHOD:PUBLISH
BEGIN:VEVENT
UID:32ec902b28993b09795f01bc9357d4c7@almondcareers.com
SUMMARY:Manual Software Testing
DESCRIPTION:Make Payment Via PayPal \n  Make Payment Via FlutterWave
LOCATION:Live Virtual Classes
DTSTAMP:20260423T122107Z
DTSTART:20260502T110000Z
DTEND:20260502T130000Z
END:VEVENT
END:VCALENDAR
