BEGIN:VCALENDAR
VERSION:2.0
PRODID:-//Eventin//Event Calendar//EN
CALSCALE:GREGORIAN
METHOD:PUBLISH
BEGIN:VEVENT
UID:bb1eae9550f3f1f6a473a82c4eba23a5@almondcareers.com
SUMMARY:Project Management or Business Analysis
DESCRIPTION:Make Payment Via PayPal \n  Make Payment Via FlutterWave
LOCATION:Live Virtual Classes
DTSTAMP:20260423T123747Z
DTSTART:20260523T080000Z
DTEND:20260523T113000Z
END:VEVENT
END:VCALENDAR
